BEGIN:VCALENDAR
VERSION:2.0
PRODID:-//JPUD - ECPv6.15.20//NONSGML v1.0//EN
CALSCALE:GREGORIAN
METHOD:PUBLISH
X-ORIGINAL-URL:https://www.jeffpud.org
X-WR-CALDESC:Events for JPUD
REFRESH-INTERVAL;VALUE=DURATION:PT1H
X-Robots-Tag:noindex
X-PUBLISHED-TTL:PT1H
BEGIN:VTIMEZONE
TZID:America/Halifax
BEGIN:DAYLIGHT
TZOFFSETFROM:-0400
TZOFFSETTO:-0300
TZNAME:ADT
DTSTART:20180311T060000
END:DAYLIGHT
BEGIN:STANDARD
TZOFFSETFROM:-0300
TZOFFSETTO:-0400
TZNAME:AST
DTSTART:20181104T050000
END:STANDARD
BEGIN:DAYLIGHT
TZOFFSETFROM:-0400
TZOFFSETTO:-0300
TZNAME:ADT
DTSTART:20190310T060000
END:DAYLIGHT
BEGIN:STANDARD
TZOFFSETFROM:-0300
TZOFFSETTO:-0400
TZNAME:AST
DTSTART:20191103T050000
END:STANDARD
BEGIN:DAYLIGHT
TZOFFSETFROM:-0400
TZOFFSETTO:-0300
TZNAME:ADT
DTSTART:20200308T060000
END:DAYLIGHT
BEGIN:STANDARD
TZOFFSETFROM:-0300
TZOFFSETTO:-0400
TZNAME:AST
DTSTART:20201101T050000
END:STANDARD
END:VTIMEZONE
BEGIN:VEVENT
DTSTART;TZID=America/Halifax:20190207T100000
DTEND;TZID=America/Halifax:20190207T120000
DTSTAMP:20260423T160431
CREATED:20190125T221540Z
LAST-MODIFIED:20190125T222240Z
UID:6330-1549533600-1549540800@www.jeffpud.org
SUMMARY:Special Meeting Executive Session
DESCRIPTION:The PUD Board of Commissioners will be holding a Special meeting\, to then dismiss into Executive Session under RCW 42.30.110 (1) (i) to discuss with legal counsel representing the PUD potential litigation which may be commenced against the PUD. This meeting will begin at 10:00 a.m. located at 310 Four Corners Rd\, Port Townsend\, WA in the Operations Center. \nPersons with disabilities who require accommodations or alternative means for communication of program information should contact Annette Johnson at 360-385-8351 at least 72 hours in advance of this meeting. \nFor any questions regarding this meeting please contact the undersigned at 360-385-8360. \nSincerely\, \nKevin Streett \nActing General Manager \nPUBLIC UTILITY DISTRICT #1 of Jefferson County \n  \nFebruary 7\, 2019 10:00 AM \nPUD BOC SPECIAL MEETING/EXECUTIVE SESSION \nAGENDA \nCall to Order \nAgenda Approval \nExecutive Session: RCW 42.30.110 (1) (i) to discuss with legal counsel representing the PUD\, potential litigation which may be commenced against the PUD. \nDiscussion/Possible Action \nAdjournment
URL:https://www.jeffpud.org/event/special-meeting-executive-session-2/
LOCATION:Jefferson County PUD HQ\, 310 Four Corners Rd\, Port Townsend\, WA\, 98368\, United States
CATEGORIES:Special Meeting
ORGANIZER;CN="Jefferson County PUD":MAILTO:wodonnell@jeffpud.org
GEO:48.0478762;-122.8134079
X-APPLE-STRUCTURED-LOCATION;VALUE=URI;X-ADDRESS=Jefferson County PUD HQ 310 Four Corners Rd Port Townsend WA 98368 United States;X-APPLE-RADIUS=500;X-TITLE=310 Four Corners Rd:geo:-122.8134079,48.0478762
END:VEVENT
END:VCALENDAR