BEGIN:VCALENDAR
VERSION:2.0
PRODID:-//JPUD - ECPv6.15.20//NONSGML v1.0//EN
CALSCALE:GREGORIAN
METHOD:PUBLISH
X-WR-CALNAME:JPUD
X-ORIGINAL-URL:https://www.jeffpud.org
X-WR-CALDESC:Events for JPUD
REFRESH-INTERVAL;VALUE=DURATION:PT1H
X-Robots-Tag:noindex
X-PUBLISHED-TTL:PT1H
BEGIN:VTIMEZONE
TZID:America/Halifax
BEGIN:DAYLIGHT
TZOFFSETFROM:-0400
TZOFFSETTO:-0300
TZNAME:ADT
DTSTART:20160313T060000
END:DAYLIGHT
BEGIN:STANDARD
TZOFFSETFROM:-0300
TZOFFSETTO:-0400
TZNAME:AST
DTSTART:20161106T050000
END:STANDARD
BEGIN:DAYLIGHT
TZOFFSETFROM:-0400
TZOFFSETTO:-0300
TZNAME:ADT
DTSTART:20170312T060000
END:DAYLIGHT
BEGIN:STANDARD
TZOFFSETFROM:-0300
TZOFFSETTO:-0400
TZNAME:AST
DTSTART:20171105T050000
END:STANDARD
BEGIN:DAYLIGHT
TZOFFSETFROM:-0400
TZOFFSETTO:-0300
TZNAME:ADT
DTSTART:20180311T060000
END:DAYLIGHT
BEGIN:STANDARD
TZOFFSETFROM:-0300
TZOFFSETTO:-0400
TZNAME:AST
DTSTART:20181104T050000
END:STANDARD
END:VTIMEZONE
BEGIN:VEVENT
DTSTART;VALUE=DATE:20171105
DTEND;VALUE=DATE:20171106
DTSTAMP:20260419T132625
CREATED:20171101T200844Z
LAST-MODIFIED:20171101T201551Z
UID:4012-1509840000-1509926399@www.jeffpud.org
SUMMARY:Fall Back: Daylight Savings Time
DESCRIPTION:Set all clocks back by one hour
URL:https://www.jeffpud.org/event/fall-back-daylight-savings-time/
END:VEVENT
BEGIN:VEVENT
DTSTART;TZID=America/Halifax:20171106T100000
DTEND;TZID=America/Halifax:20171106T113000
DTSTAMP:20260419T132625
CREATED:20171024T212611Z
LAST-MODIFIED:20171026T220546Z
UID:3973-1509962400-1509967800@www.jeffpud.org
SUMMARY:BOC Special Meeting: Entrance Audit
DESCRIPTION:Please take Notice that the PUD Board of Commissioners will hold a meeting on Monday\, November 6\, 2017 beginning at 10:00 a.m. The purpose of this special meeting is to discuss the timing and cost of the audit from the Washington State Auditor’s Office for 2016.  The Special meeting will be at the Jefferson County PUD Operations Center located at 310 Four Corners Rd. Port Townsend\, WA. \nPersons with disabilities who require accommodations or alternative or alternative means for communication of program information should contact Annette Johnson at 360-385-8351 at least 72 hours in advance of this meeting. \nPUBLIC NOTICE AND AGENDA OF PUD BOARD OF COMMISIONERS SPECIAL MEETING ON NOVEMBER 6\, 2017 AT _10:00 A.M. \nPUBLIC UTILTIY DISTRICT NO. 1 OF JEFFERSON COUNTY \nSPECIAL MEETING \nAGENDA \nDISCUSSION: Timing\, costs and other concerns for 2016 Audit \nADJOURNMENT
URL:https://www.jeffpud.org/event/boc-special-meeting-audit-policy/
LOCATION:Jefferson County PUD HQ\, 310 Four Corners Rd\, Port Townsend\, WA\, 98368\, United States
CATEGORIES:Board Meeting
ORGANIZER;CN="Jefferson County PUD":MAILTO:wodonnell@jeffpud.org
GEO:48.0478762;-122.8134079
X-APPLE-STRUCTURED-LOCATION;VALUE=URI;X-ADDRESS=Jefferson County PUD HQ 310 Four Corners Rd Port Townsend WA 98368 United States;X-APPLE-RADIUS=500;X-TITLE=310 Four Corners Rd:geo:-122.8134079,48.0478762
END:VEVENT
BEGIN:VEVENT
DTSTART;TZID=America/Halifax:20171107T170000
DTEND;TZID=America/Halifax:20171107T183000
DTSTAMP:20260419T132625
CREATED:20171024T000512Z
LAST-MODIFIED:20171104T032015Z
UID:3940-1510074000-1510079400@www.jeffpud.org
SUMMARY:Regular Board Meeting 1
DESCRIPTION:The PUD #1 Board of Commissioners regularly meet on the first and third Tuesday of each month and hold a budget hearing the first Monday in October. One regular board meeting is held in December on the second Tuesday. Details of the next scheduled meeting are below: \nPUD Board of Commissioners Meeting\nJefferson Transit Board Room\n63 Four Corners Road \nLINK TO AGENDA AND BOARD PACKET
URL:https://www.jeffpud.org/event/citizens-advisory-board-dec/
LOCATION:Jefferson Transit Board Room\, 63 Four Corners Road\, Port Townsend\, WA\, 98368\, United States
CATEGORIES:Board Meeting
GEO:48.0505321;-122.8185547
X-APPLE-STRUCTURED-LOCATION;VALUE=URI;X-ADDRESS=Jefferson Transit Board Room 63 Four Corners Road Port Townsend WA 98368 United States;X-APPLE-RADIUS=500;X-TITLE=63 Four Corners Road:geo:-122.8185547,48.0505321
END:VEVENT
BEGIN:VEVENT
DTSTART;VALUE=DATE:20171110
DTEND;VALUE=DATE:20171111
DTSTAMP:20260419T132625
CREATED:20171031T215920Z
LAST-MODIFIED:20171031T220009Z
UID:3990-1510272000-1510358399@www.jeffpud.org
SUMMARY:Veteran's Day (observed) PUD Office Closed
DESCRIPTION:In honor of Veterans Day \nJefferson County PUD offices will be closed  \non Friday\, November 10\, 2017
URL:https://www.jeffpud.org/event/veterans-day-observed-pud-office-closed/
ORGANIZER;CN="Jefferson County PUD":MAILTO:wodonnell@jeffpud.org
END:VEVENT
END:VCALENDAR