BEGIN:VCALENDAR
VERSION:2.0
PRODID:-//JPUD - ECPv6.15.20//NONSGML v1.0//EN
CALSCALE:GREGORIAN
METHOD:PUBLISH
X-WR-CALNAME:JPUD
X-ORIGINAL-URL:https://www.jeffpud.org
X-WR-CALDESC:Events for JPUD
REFRESH-INTERVAL;VALUE=DURATION:PT1H
X-Robots-Tag:noindex
X-PUBLISHED-TTL:PT1H
BEGIN:VTIMEZONE
TZID:America/Los_Angeles
BEGIN:DAYLIGHT
TZOFFSETFROM:-0800
TZOFFSETTO:-0700
TZNAME:PDT
DTSTART:20190310T100000
END:DAYLIGHT
BEGIN:STANDARD
TZOFFSETFROM:-0700
TZOFFSETTO:-0800
TZNAME:PST
DTSTART:20191103T090000
END:STANDARD
BEGIN:DAYLIGHT
TZOFFSETFROM:-0800
TZOFFSETTO:-0700
TZNAME:PDT
DTSTART:20200308T100000
END:DAYLIGHT
BEGIN:STANDARD
TZOFFSETFROM:-0700
TZOFFSETTO:-0800
TZNAME:PST
DTSTART:20201101T090000
END:STANDARD
BEGIN:DAYLIGHT
TZOFFSETFROM:-0800
TZOFFSETTO:-0700
TZNAME:PDT
DTSTART:20210314T100000
END:DAYLIGHT
BEGIN:STANDARD
TZOFFSETFROM:-0700
TZOFFSETTO:-0800
TZNAME:PST
DTSTART:20211107T090000
END:STANDARD
END:VTIMEZONE
BEGIN:VTIMEZONE
TZID:America/Halifax
BEGIN:DAYLIGHT
TZOFFSETFROM:-0400
TZOFFSETTO:-0300
TZNAME:ADT
DTSTART:20190310T060000
END:DAYLIGHT
BEGIN:STANDARD
TZOFFSETFROM:-0300
TZOFFSETTO:-0400
TZNAME:AST
DTSTART:20191103T050000
END:STANDARD
BEGIN:DAYLIGHT
TZOFFSETFROM:-0400
TZOFFSETTO:-0300
TZNAME:ADT
DTSTART:20200308T060000
END:DAYLIGHT
BEGIN:STANDARD
TZOFFSETFROM:-0300
TZOFFSETTO:-0400
TZNAME:AST
DTSTART:20201101T050000
END:STANDARD
BEGIN:DAYLIGHT
TZOFFSETFROM:-0400
TZOFFSETTO:-0300
TZNAME:ADT
DTSTART:20210314T060000
END:DAYLIGHT
BEGIN:STANDARD
TZOFFSETFROM:-0300
TZOFFSETTO:-0400
TZNAME:AST
DTSTART:20211107T050000
END:STANDARD
END:VTIMEZONE
BEGIN:VEVENT
DTSTART;TZID=America/Los_Angeles:20200505T170000
DTEND;TZID=America/Los_Angeles:20200505T190000
DTSTAMP:20260424T170107
CREATED:20200327T200913Z
LAST-MODIFIED:20200501T204155Z
UID:9460-1588698000-1588705200@www.jeffpud.org
SUMMARY:BOC Meeting
DESCRIPTION:The PUD #1 Board of Commissioners regularly meet at 5pm on the first and third Tuesday of each month and hold a budget hearing the first Monday in October. One regular board meeting is held in December on the second Tuesday. \n\nMeet the Board of Commissioners.\nAgenda and Board Packet \nPast Meeting Recordings and Documents\n\nPer Governor’s Proclamation 20-28\, and in response to the COVID-19 pandemic\, Jefferson County PUD is no longer be providing an in-person room for meetings of the BOC. All meetings will only be accessible remotely via Webex until otherwise informed by Order of the Governor. \nTO JOIN THE MEETING ONLINE: Go to https://jeffpud.my.webex.com/meet/JPUD and follow the instructions to login and join. Meetings will open for remote logins 10 minutes before they begin.\nOR CALL: (408) 418-9388 to join by phone. Enter Access Code: 628 345 788 then #. Hit # again if prompted for an additional id number. (New Local Number for calling in to the meeting: 360-379-5833) \nNote: All participant audio will be muted upon entry. Please unmute at the appropriate time to speak. Use *6 on a phone to mute or unmute during call in.
URL:https://www.jeffpud.org/event/board-of-commissioners-regular-meeting/
END:VEVENT
BEGIN:VEVENT
DTSTART;TZID=America/Halifax:20200511T140000
DTEND;TZID=America/Halifax:20200511T160000
DTSTAMP:20260424T170107
CREATED:20171228T032712Z
LAST-MODIFIED:20200422T174204Z
UID:8191-1589205600-1589212800@www.jeffpud.org
SUMMARY:CANCELLED: CAB MEETING
DESCRIPTION:The Citizen Advisory Board (CAB) meets the second Monday of every month at 2:00 PM. The May 11 meeting has been cancelled due to concerns about the ongoing COVID-19 pandemic. \n\nAbout the Citizen Advisory Board\nAgenda Packet Link (to be posted the week before the meeting)\nPrevious Meeting Audio Recording and Documents
URL:https://www.jeffpud.org/event/cab-meeting-2018-02-12-2019-10-14-2020-05-11/
LOCATION:Chimacum Fire Dept\, 9193 Rhody Drive\, Chimacum\, 98325\, United States
CATEGORIES:CAB Meeting
ORGANIZER;CN="Jefferson County PUD":MAILTO:wodonnell@jeffpud.org
GEO:48.0112736;-122.7707342
X-APPLE-STRUCTURED-LOCATION;VALUE=URI;X-ADDRESS=Chimacum Fire Dept 9193 Rhody Drive Chimacum 98325 United States;X-APPLE-RADIUS=500;X-TITLE=9193 Rhody Drive:geo:-122.7707342,48.0112736
END:VEVENT
BEGIN:VEVENT
DTSTART;TZID=America/Los_Angeles:20200519T100000
DTEND;TZID=America/Los_Angeles:20200519T120000
DTSTAMP:20260424T170107
CREATED:20200512T192606Z
LAST-MODIFIED:20200515T192659Z
UID:9729-1589882400-1589889600@www.jeffpud.org
SUMMARY:Special Meeting of the BOC
DESCRIPTION:The PUD Board of Commissioners will hold a Special Meeting at 10:00am. Possible action will be taken at this meeting. The agenda for this meeting will be posted on the Jefferson County PUD website at least 24 hours prior to the meeting.  This meeting will be held by WEBEX video conference. \nNOTE: Per Governor’s Proclamation 20-28\, and in response to the COVID-19 pandemic\, Jefferson County PUD will no longer be providing an in-person room for meetings of the BOC.  All meetings will only be accessible remotely via WEBEX until we have further information on anymore extensions\, by Governor Order. \nTO JOIN THE MEETING ONLINE: Go to jeffpud.my.webex.com/meet/JPUD and follow the instructions to login and join. Meetings will open for remote logins 10 minutes before they begin. \nOR CALL: (408) 418-9388 to join by phone. Enter Access Code: 628 345 788 then #. Hit # again if prompted for an additional id number. (New Local Number for calling in to the meeting: 360-379-5833) Use *6 to unmute during any public comment. \n5.15.20 Agenda Packet
URL:https://www.jeffpud.org/event/special-meeting-of-the-boc-3/
END:VEVENT
BEGIN:VEVENT
DTSTART;TZID=America/Los_Angeles:20200519T170000
DTEND;TZID=America/Los_Angeles:20200519T190000
DTSTAMP:20260424T170107
CREATED:20200327T201621Z
LAST-MODIFIED:20200512T191949Z
UID:9477-1589907600-1589914800@www.jeffpud.org
SUMMARY:Cancelled: Regular BOC Meeting
DESCRIPTION:This regular meeting has been cancelled. The next regular meeting will be held in June. \nThe PUD #1 Board of Commissioners regularly meet at 5pm on the first and third Tuesday of each month and hold a budget hearing the first Monday in October. One regular board meeting is held in December on the second Tuesday. \n\nMeet the Board of Commissioners.\nAgenda and Board Packet \nPast Meeting Recordings and Documents
URL:https://www.jeffpud.org/event/boc-meeting-2/
END:VEVENT
BEGIN:VEVENT
DTSTART;TZID=America/Los_Angeles:20200519T170000
DTEND;TZID=America/Los_Angeles:20200519T190000
DTSTAMP:20260424T170107
CREATED:20200512T192838Z
LAST-MODIFIED:20200521T200119Z
UID:9731-1589907600-1589914800@www.jeffpud.org
SUMMARY:Special Meeting of the BOC: Joint Agency Meeting
DESCRIPTION:Joint Special Meeting:\nJefferson County Board of County Commissioners\, Port Townsend City Council\, Port of Port Townsend\, Public Utility District #1\, and Jefferson County Board of Health\nTuesday\, May 19\, 2020 at 5:00 p.m. Commissioners’ Chambers 1820 Jefferson Street\, Port Townsend\nCOVID-19 NOTICE: NO IN-PERSON ATTENDANCE ALLOWED (Per Governor Inslee’s Proclamation 20-28)\nTo view this meeting live go to www.co.jefferson.wa.us   Follow the links under “Quick Links: Videos of Meetings-Streaming Live” Use the internet link above. Those without internet can listen by dialing 1-571-317-3122 – enter Access Code: 896-695-829# \nJoint Agency Meeting Video Recording\n 
URL:https://www.jeffpud.org/event/special-meeting-of-the-boc-joint-agency-meeting/
END:VEVENT
BEGIN:VEVENT
DTSTART;VALUE=DATE:20200525
DTEND;VALUE=DATE:20200526
DTSTAMP:20260424T170107
CREATED:20200116T190136Z
LAST-MODIFIED:20200116T190259Z
UID:9171-1590364800-1590451199@www.jeffpud.org
SUMMARY:Closed for Memorial Day
DESCRIPTION:All PUD offices will be closed on Monday\, May 25th\, in observance of the Memorial Day holiday. We will reopen Tuesday the 26th at 9am.
URL:https://www.jeffpud.org/event/closed-for-memorial-day/
LOCATION:PUD Customer Service Office\, 210 Four Corners Rd\, Port Townsend\, WA\, 98368\, United States
CATEGORIES:holiday
END:VEVENT
BEGIN:VEVENT
DTSTART;TZID=America/Los_Angeles:20200527T100000
DTEND;TZID=America/Los_Angeles:20200527T120000
DTSTAMP:20260424T170107
CREATED:20200511T165444Z
LAST-MODIFIED:20200527T163455Z
UID:9719-1590573600-1590580800@www.jeffpud.org
SUMMARY:Special Meeting of the BOC: 1st Qtr Review
DESCRIPTION:The PUD Board of Commissioners will hold a Special meeting to discuss the 1st quarter PUD review. This meeting will be held online via Webex video conference. Possible action may be taken at this Special meeting. \nPer Governor’s Proclamation 20-28\, and in response to the COVID-19 pandemic\, Jefferson County PUD is not providing an in-person room for meetings of the BOC.  All meetings will only be accessible remotely via Webex until further updated by Governor Order. \nTO JOIN THE MEETING ONLINE: Go to jeffpud.my.webex.com/meet/JPUD and follow the instructions to login and join. Meetings will open for remote logins 10 minutes before they begin. \nOR CALL: (408) 418-9388 to join by phone. Enter Access Code: 628 345 788 then #. Hit # again if prompted for an additional id number. (New Local Number for calling in to the meeting: 360-379-5833) Use *6 to unmute during any public comment. \n  \nAGENDA \nCall to Order \nAgenda Approval \nPresentation of PUD 1st Quarter Review \nAdjournment \n  \nmore instructions on attending JPUD Webex Meetings.
URL:https://www.jeffpud.org/event/special-meeting-of-the-boc-1st-qtr-review/
END:VEVENT
END:VCALENDAR