BEGIN:VCALENDAR
VERSION:2.0
PRODID:-//JPUD - ECPv6.15.20//NONSGML v1.0//EN
CALSCALE:GREGORIAN
METHOD:PUBLISH
X-ORIGINAL-URL:https://www.jeffpud.org
X-WR-CALDESC:Events for JPUD
REFRESH-INTERVAL;VALUE=DURATION:PT1H
X-Robots-Tag:noindex
X-PUBLISHED-TTL:PT1H
BEGIN:VTIMEZONE
TZID:America/Los_Angeles
BEGIN:DAYLIGHT
TZOFFSETFROM:-0800
TZOFFSETTO:-0700
TZNAME:PDT
DTSTART:20190310T100000
END:DAYLIGHT
BEGIN:STANDARD
TZOFFSETFROM:-0700
TZOFFSETTO:-0800
TZNAME:PST
DTSTART:20191103T090000
END:STANDARD
BEGIN:DAYLIGHT
TZOFFSETFROM:-0800
TZOFFSETTO:-0700
TZNAME:PDT
DTSTART:20200308T100000
END:DAYLIGHT
BEGIN:STANDARD
TZOFFSETFROM:-0700
TZOFFSETTO:-0800
TZNAME:PST
DTSTART:20201101T090000
END:STANDARD
BEGIN:DAYLIGHT
TZOFFSETFROM:-0800
TZOFFSETTO:-0700
TZNAME:PDT
DTSTART:20210314T100000
END:DAYLIGHT
BEGIN:STANDARD
TZOFFSETFROM:-0700
TZOFFSETTO:-0800
TZNAME:PST
DTSTART:20211107T090000
END:STANDARD
END:VTIMEZONE
BEGIN:VTIMEZONE
TZID:America/Halifax
BEGIN:DAYLIGHT
TZOFFSETFROM:-0400
TZOFFSETTO:-0300
TZNAME:ADT
DTSTART:20190310T060000
END:DAYLIGHT
BEGIN:STANDARD
TZOFFSETFROM:-0300
TZOFFSETTO:-0400
TZNAME:AST
DTSTART:20191103T050000
END:STANDARD
BEGIN:DAYLIGHT
TZOFFSETFROM:-0400
TZOFFSETTO:-0300
TZNAME:ADT
DTSTART:20200308T060000
END:DAYLIGHT
BEGIN:STANDARD
TZOFFSETFROM:-0300
TZOFFSETTO:-0400
TZNAME:AST
DTSTART:20201101T050000
END:STANDARD
BEGIN:DAYLIGHT
TZOFFSETFROM:-0400
TZOFFSETTO:-0300
TZNAME:ADT
DTSTART:20210314T060000
END:DAYLIGHT
BEGIN:STANDARD
TZOFFSETFROM:-0300
TZOFFSETTO:-0400
TZNAME:AST
DTSTART:20211107T050000
END:STANDARD
END:VTIMEZONE
BEGIN:VEVENT
DTSTART;TZID=America/Los_Angeles:20200101T080000
DTEND;TZID=America/Los_Angeles:20200101T170000
DTSTAMP:20260424T182605
CREATED:20191213T185943Z
LAST-MODIFIED:20191213T185943Z
UID:8864-1577865600-1577898000@www.jeffpud.org
SUMMARY:Closed for New Year's Day Holiday
DESCRIPTION:All PUD offices will be closed on January 1st 2020 in observance of the New Year’s Day holiday.
URL:https://www.jeffpud.org/event/closed-for-new-years-day-holiday/
LOCATION:PUD Customer Service Office\, 210 Four Corners Rd\, Port Townsend\, WA\, 98368\, United States
END:VEVENT
BEGIN:VEVENT
DTSTART;TZID=America/Los_Angeles:20200107T160000
DTEND;TZID=America/Los_Angeles:20200107T164500
DTSTAMP:20260424T182605
CREATED:20200106T221257Z
LAST-MODIFIED:20200106T230203Z
UID:9091-1578412800-1578415500@www.jeffpud.org
SUMMARY:Special Meeting of the BOC: Exec Session
DESCRIPTION:The Jefferson County PUD Board of Commissioners will hold a Special meeting on January 7\, 2020 4:00 pm\, and will then hold an Executive Session to consider the selection of a site or the acquisition of real estate pursuant to RCW 42.30.110 (1) (b). This meeting will be held at the Customer Service PUD office\, 210 Four Corners Rd. Port Townsend\, WA. There may be action taken at this meeting. \nAGENDA \nCall to Order \nAgenda Approval \nDismiss to Executive Session: To discuss and consider the selection of a site or the acquisition of  real estate pursuant to  RCW. 42.30.110 (1) (b) \nDiscussion/Possible Action \nAdjournment
URL:https://www.jeffpud.org/event/special-meeting-of-the-boc-exec-session-3/
LOCATION:PUD Customer Service Office\, 210 Four Corners Rd\, Port Townsend\, WA\, 98368\, United States
END:VEVENT
BEGIN:VEVENT
DTSTART;TZID=America/Halifax:20200107T170000
DTEND;TZID=America/Halifax:20200107T190000
DTSTAMP:20260424T182605
CREATED:20171115T030508Z
LAST-MODIFIED:20200103T161654Z
UID:8222-1578416400-1578423600@www.jeffpud.org
SUMMARY:BOC Meeting
DESCRIPTION:The PUD #1 Board of Commissioners regularly meet at 5pm on the first and third Tuesday of each month and hold a budget hearing the first Monday in October. One regular board meeting is held in December on the second Tuesday. Meetings are held at the Jefferson Transit Board Room\, 63 Four Corners Road\, Port Townsend WA 98368. \n\nMeet the Board of Commissioners.\nAgenda and Board Packet \nPast Meeting Recordings and Documents
URL:https://www.jeffpud.org/event/boc-meeting-2019-09-17-2019-10-15-2019-11-05-2020-01-07/
LOCATION:Jefferson Transit Board Room\, 63 Four Corners Road\, Port Townsend\, WA\, 98368\, United States
ATTACH;FMTTYPE=image/jpeg:https://www.jeffpud.org/wp-content/uploads/Board-Meeting-scaled-e1724697447903.jpg
GEO:48.0505321;-122.8185547
X-APPLE-STRUCTURED-LOCATION;VALUE=URI;X-ADDRESS=Jefferson Transit Board Room 63 Four Corners Road Port Townsend WA 98368 United States;X-APPLE-RADIUS=500;X-TITLE=63 Four Corners Road:geo:-122.8185547,48.0505321
END:VEVENT
BEGIN:VEVENT
DTSTART;TZID=America/Halifax:20200113T140000
DTEND;TZID=America/Halifax:20200113T160000
DTSTAMP:20260424T182605
CREATED:20171228T032712Z
LAST-MODIFIED:20200108T204024Z
UID:8187-1578924000-1578931200@www.jeffpud.org
SUMMARY:CAB MEETING
DESCRIPTION:The Citizen Advisory Board (CAB) meets the second Monday of every month at 2:00 PM. \nNOTE: the normal location for this meeting has been changed\, see details below. \n\nAbout the Citizen Advisory Board\nAgenda Packet Link \nPrevious Meeting Audio Recording and Documents
URL:https://www.jeffpud.org/event/cab-meeting-2018-02-12-2019-10-14-2020-01-13/
LOCATION:PT Fire Station\, 701 Harrison St\, Port Townsend\, WA\, 98368\, United States
CATEGORIES:CAB Meeting
ORGANIZER;CN="Jefferson County PUD":MAILTO:wodonnell@jeffpud.org
END:VEVENT
BEGIN:VEVENT
DTSTART;TZID=America/Los_Angeles:20200114T100000
DTEND;TZID=America/Los_Angeles:20200114T120000
DTSTAMP:20260424T182605
CREATED:20191118T222307Z
LAST-MODIFIED:20191118T222413Z
UID:8608-1578996000-1579003200@www.jeffpud.org
SUMMARY:Special Meeting of the BOC: Financial Policy
DESCRIPTION:The PUD Board of Commissioners will hold a Special meeting January 14\, 2020 10:00am-12:00pm to meet with Moss Adams to discuss the PUD financial policy. This meeting will be held at the Harborside Inn\, 330 Benedict Street\, Port Townsend. There may be action taken at this meeting. \n  \nNOTE LOCATION: Harborside Inn\, 330 Benedict Street\, Port Townsend \nSPECIAL MEETING to discuss PUD financial policy \nAGENDA \nCall to Order \nAgenda Approval \nQ & A time with Olga Darlington from Moss Adams to go over the PUD Financial policy \nDiscussion/Possible Action \nAdjournment
URL:https://www.jeffpud.org/event/8608/
LOCATION:Harborside Meeting Room\, 330 Benedict Street\, Port Townsend\, WA\, 98368\, United States
END:VEVENT
BEGIN:VEVENT
DTSTART;VALUE=DATE:20200120
DTEND;VALUE=DATE:20200121
DTSTAMP:20260424T182605
CREATED:20200116T185427Z
LAST-MODIFIED:20200116T185427Z
UID:9167-1579478400-1579564799@www.jeffpud.org
SUMMARY:Closed for MLK Holiday
DESCRIPTION:All Jefferson County PUD offices will be closed Monday January 20th in observance of the Martin Luther King Jr. Day holiday. We will re-open on Tuesday the 21st at 9am.
URL:https://www.jeffpud.org/event/closed-for-mlk-holiday/
LOCATION:PUD Customer Service Office\, 210 Four Corners Rd\, Port Townsend\, WA\, 98368\, United States
CATEGORIES:holiday
END:VEVENT
BEGIN:VEVENT
DTSTART;TZID=America/Halifax:20200121T170000
DTEND;TZID=America/Halifax:20200121T190000
DTSTAMP:20260424T182605
CREATED:20171115T030508Z
LAST-MODIFIED:20200116T183435Z
UID:6778-1579626000-1579633200@www.jeffpud.org
SUMMARY:BOC Meeting
DESCRIPTION:The PUD #1 Board of Commissioners regularly meet at 5pm on the first and third Tuesday of each month and hold a budget hearing the first Monday in October. One regular board meeting is held in December on the second Tuesday. Meetings are held at the Jefferson Transit Board Room\, 63 Four Corners Road\, Port Townsend WA 98368. \n\nMeet the Board of Commissioners.\nAgenda and Board Packet\nPast Meeting Recordings and Documents
URL:https://www.jeffpud.org/event/boc-meeting-2019-09-17-2019-10-15-2019-11-05-2020-01-07-2020-01-21/
LOCATION:Jefferson Transit Board Room\, 63 Four Corners Road\, Port Townsend\, WA\, 98368\, United States
ATTACH;FMTTYPE=image/jpeg:https://www.jeffpud.org/wp-content/uploads/Board-Meeting-scaled-e1724697447903.jpg
GEO:48.0505321;-122.8185547
X-APPLE-STRUCTURED-LOCATION;VALUE=URI;X-ADDRESS=Jefferson Transit Board Room 63 Four Corners Road Port Townsend WA 98368 United States;X-APPLE-RADIUS=500;X-TITLE=63 Four Corners Road:geo:-122.8185547,48.0505321
END:VEVENT
BEGIN:VEVENT
DTSTART;TZID=America/Los_Angeles:20200128T100000
DTEND;TZID=America/Los_Angeles:20200128T120000
DTSTAMP:20260424T182605
CREATED:20200114T213159Z
LAST-MODIFIED:20200122T164931Z
UID:9151-1580205600-1580212800@www.jeffpud.org
SUMMARY:Special Meeting of the BOC: Vegetation Management
DESCRIPTION:The PUD Board of Commissioners will hold a Special meeting on January 28\, 2020 10:00am to 12:00pm to be held at the Chimacum Fire Hall\, 9193 Rhody Drive\, Chimacum\, WA for a discussion on Vegetation Management Policy updates.  There may be action taken at this meeting. \nAGENDA \nCall to Order \nAgenda Approval \nVegetation Management Policy Discussion- Scott Bancroft \nDiscussion/Possible Action \nAdjournment
URL:https://www.jeffpud.org/event/special-meeting-of-the-boc-financial-policy-2/
LOCATION:Chimacum Fire Dept\, 9193 Rhody Drive\, Chimacum\, 98325\, United States
GEO:48.0112736;-122.7707342
X-APPLE-STRUCTURED-LOCATION;VALUE=URI;X-ADDRESS=Chimacum Fire Dept 9193 Rhody Drive Chimacum 98325 United States;X-APPLE-RADIUS=500;X-TITLE=9193 Rhody Drive:geo:-122.7707342,48.0112736
END:VEVENT
END:VCALENDAR