BEGIN:VCALENDAR
VERSION:2.0
PRODID:-//JPUD - ECPv6.15.20//NONSGML v1.0//EN
CALSCALE:GREGORIAN
METHOD:PUBLISH
X-ORIGINAL-URL:https://www.jeffpud.org
X-WR-CALDESC:Events for JPUD
REFRESH-INTERVAL;VALUE=DURATION:PT1H
X-Robots-Tag:noindex
X-PUBLISHED-TTL:PT1H
BEGIN:VTIMEZONE
TZID:America/Halifax
BEGIN:DAYLIGHT
TZOFFSETFROM:-0400
TZOFFSETTO:-0300
TZNAME:ADT
DTSTART:20170312T060000
END:DAYLIGHT
BEGIN:STANDARD
TZOFFSETFROM:-0300
TZOFFSETTO:-0400
TZNAME:AST
DTSTART:20171105T050000
END:STANDARD
BEGIN:DAYLIGHT
TZOFFSETFROM:-0400
TZOFFSETTO:-0300
TZNAME:ADT
DTSTART:20180311T060000
END:DAYLIGHT
BEGIN:STANDARD
TZOFFSETFROM:-0300
TZOFFSETTO:-0400
TZNAME:AST
DTSTART:20181104T050000
END:STANDARD
BEGIN:DAYLIGHT
TZOFFSETFROM:-0400
TZOFFSETTO:-0300
TZNAME:ADT
DTSTART:20190310T060000
END:DAYLIGHT
BEGIN:STANDARD
TZOFFSETFROM:-0300
TZOFFSETTO:-0400
TZNAME:AST
DTSTART:20191103T050000
END:STANDARD
END:VTIMEZONE
BEGIN:VEVENT
DTSTART;TZID=America/Halifax:20180303T090000
DTEND;TZID=America/Halifax:20180303T170000
DTSTAMP:20260421T104003
CREATED:20180225T001956Z
LAST-MODIFIED:20180225T001956Z
UID:4826-1520067600-1520096400@www.jeffpud.org
SUMMARY:Port Townsend Home Show
DESCRIPTION:Featuring more than 45 exhibitors\, the Port Townsend Home Show offers a local opportunity to meet experts and learn about the new products and services that are available to add comfort and value to your home. From kitchens and baths to closets; from roofing and siding to decks and landscaping our show offers ideas to turn your dreams into reality. VisitJCHBA.net to learn more about the FREE plant clinics & the home presentations offered hourly from 9 am – 5 pm.
URL:https://www.jeffpud.org/event/port-townsend-home-show/
LOCATION:Blue Heron Commons\, 3939 San Juan Ave\, Port Townsend\, WA\, WA\, 98368-3323\, United States
END:VEVENT
BEGIN:VEVENT
DTSTART;TZID=America/Halifax:20180306T160000
DTEND;TZID=America/Halifax:20180306T170000
DTSTAMP:20260421T104003
CREATED:20180228T233942Z
LAST-MODIFIED:20180228T235836Z
UID:4834-1520352000-1520355600@www.jeffpud.org
SUMMARY:BOC Special Meeting Exec Session
DESCRIPTION:The PUD Board of Commissioners will be holding a Special meeting\, Executive Session under RCW 42.30.110 to evaluate the qualifications of an applicant for public employment. The special meeting will begin at 4:00 p.m. at the Jefferson County Transit Board Room.
URL:https://www.jeffpud.org/event/boc-special-meeting-exec-session/
LOCATION:Jefferson Transit Board Room\, 63 Four Corners Road\, Port Townsend\, WA\, 98368\, United States
CATEGORIES:Board Meeting,Special Meeting
ORGANIZER;CN="Jefferson County PUD":MAILTO:wodonnell@jeffpud.org
GEO:48.0505321;-122.8185547
X-APPLE-STRUCTURED-LOCATION;VALUE=URI;X-ADDRESS=Jefferson Transit Board Room 63 Four Corners Road Port Townsend WA 98368 United States;X-APPLE-RADIUS=500;X-TITLE=63 Four Corners Road:geo:-122.8185547,48.0505321
END:VEVENT
BEGIN:VEVENT
DTSTART;TZID=America/Halifax:20180320T150000
DTEND;TZID=America/Halifax:20180320T170000
DTSTAMP:20260421T104003
CREATED:20180313T002036Z
LAST-MODIFIED:20180313T002839Z
UID:4902-1521558000-1521565200@www.jeffpud.org
SUMMARY:BOC Special Meeting: Public Power Council
DESCRIPTION:The PUD Board of Commissioners will be holding a Special meeting\, with members of the Public Power Council to update the Commissioners about Bonneville Power Administration. The special meeting will begin at 3:00 p.m. at Jefferson PUD Operations Center\, 310 Four Corners Rd. Port Townsend.
URL:https://www.jeffpud.org/event/boc-special-meeting-public-power-council/
LOCATION:Jefferson County PUD HQ\, 310 Four Corners Rd\, Port Townsend\, WA\, 98368\, United States
CATEGORIES:Special Meeting
GEO:48.0478762;-122.8134079
X-APPLE-STRUCTURED-LOCATION;VALUE=URI;X-ADDRESS=Jefferson County PUD HQ 310 Four Corners Rd Port Townsend WA 98368 United States;X-APPLE-RADIUS=500;X-TITLE=310 Four Corners Rd:geo:-122.8134079,48.0478762
END:VEVENT
END:VCALENDAR