BEGIN:VCALENDAR
VERSION:2.0
PRODID:-//JPUD - ECPv6.15.20//NONSGML v1.0//EN
CALSCALE:GREGORIAN
METHOD:PUBLISH
X-WR-CALNAME:JPUD
X-ORIGINAL-URL:https://www.jeffpud.org
X-WR-CALDESC:Events for JPUD
REFRESH-INTERVAL;VALUE=DURATION:PT1H
X-Robots-Tag:noindex
X-PUBLISHED-TTL:PT1H
BEGIN:VTIMEZONE
TZID:America/Los_Angeles
BEGIN:DAYLIGHT
TZOFFSETFROM:-0800
TZOFFSETTO:-0700
TZNAME:PDT
DTSTART:20190310T100000
END:DAYLIGHT
BEGIN:STANDARD
TZOFFSETFROM:-0700
TZOFFSETTO:-0800
TZNAME:PST
DTSTART:20191103T090000
END:STANDARD
BEGIN:DAYLIGHT
TZOFFSETFROM:-0800
TZOFFSETTO:-0700
TZNAME:PDT
DTSTART:20200308T100000
END:DAYLIGHT
BEGIN:STANDARD
TZOFFSETFROM:-0700
TZOFFSETTO:-0800
TZNAME:PST
DTSTART:20201101T090000
END:STANDARD
BEGIN:DAYLIGHT
TZOFFSETFROM:-0800
TZOFFSETTO:-0700
TZNAME:PDT
DTSTART:20210314T100000
END:DAYLIGHT
BEGIN:STANDARD
TZOFFSETFROM:-0700
TZOFFSETTO:-0800
TZNAME:PST
DTSTART:20211107T090000
END:STANDARD
BEGIN:DAYLIGHT
TZOFFSETFROM:-0800
TZOFFSETTO:-0700
TZNAME:PDT
DTSTART:20220313T100000
END:DAYLIGHT
BEGIN:STANDARD
TZOFFSETFROM:-0700
TZOFFSETTO:-0800
TZNAME:PST
DTSTART:20221106T090000
END:STANDARD
BEGIN:DAYLIGHT
TZOFFSETFROM:-0800
TZOFFSETTO:-0700
TZNAME:PDT
DTSTART:20230312T100000
END:DAYLIGHT
BEGIN:STANDARD
TZOFFSETFROM:-0700
TZOFFSETTO:-0800
TZNAME:PST
DTSTART:20231105T090000
END:STANDARD
BEGIN:DAYLIGHT
TZOFFSETFROM:-0800
TZOFFSETTO:-0700
TZNAME:PDT
DTSTART:20240310T100000
END:DAYLIGHT
BEGIN:STANDARD
TZOFFSETFROM:-0700
TZOFFSETTO:-0800
TZNAME:PST
DTSTART:20241103T090000
END:STANDARD
BEGIN:DAYLIGHT
TZOFFSETFROM:-0800
TZOFFSETTO:-0700
TZNAME:PDT
DTSTART:20250309T100000
END:DAYLIGHT
BEGIN:STANDARD
TZOFFSETFROM:-0700
TZOFFSETTO:-0800
TZNAME:PST
DTSTART:20251102T090000
END:STANDARD
BEGIN:DAYLIGHT
TZOFFSETFROM:-0800
TZOFFSETTO:-0700
TZNAME:PDT
DTSTART:20260308T100000
END:DAYLIGHT
BEGIN:STANDARD
TZOFFSETFROM:-0700
TZOFFSETTO:-0800
TZNAME:PST
DTSTART:20261101T090000
END:STANDARD
END:VTIMEZONE
BEGIN:VTIMEZONE
TZID:America/Halifax
BEGIN:DAYLIGHT
TZOFFSETFROM:-0400
TZOFFSETTO:-0300
TZNAME:ADT
DTSTART:20180311T060000
END:DAYLIGHT
BEGIN:STANDARD
TZOFFSETFROM:-0300
TZOFFSETTO:-0400
TZNAME:AST
DTSTART:20181104T050000
END:STANDARD
BEGIN:DAYLIGHT
TZOFFSETFROM:-0400
TZOFFSETTO:-0300
TZNAME:ADT
DTSTART:20190310T060000
END:DAYLIGHT
BEGIN:STANDARD
TZOFFSETFROM:-0300
TZOFFSETTO:-0400
TZNAME:AST
DTSTART:20191103T050000
END:STANDARD
BEGIN:DAYLIGHT
TZOFFSETFROM:-0400
TZOFFSETTO:-0300
TZNAME:ADT
DTSTART:20200308T060000
END:DAYLIGHT
BEGIN:STANDARD
TZOFFSETFROM:-0300
TZOFFSETTO:-0400
TZNAME:AST
DTSTART:20201101T050000
END:STANDARD
END:VTIMEZONE
BEGIN:VEVENT
DTSTART;VALUE=DATE:20250217
DTEND;VALUE=DATE:20250218
DTSTAMP:20260423T011236
CREATED:20241115T175717Z
LAST-MODIFIED:20241115T175717Z
UID:50332-1739750400-1739836799@www.jeffpud.org
SUMMARY:Offices Closed: Presidents' Day
DESCRIPTION:Jefferson PUD offices will be closed in observance of Presidents’ Day.
URL:https://www.jeffpud.org/event/offices-closed-presidents-day-2/
CATEGORIES:holiday
END:VEVENT
BEGIN:VEVENT
DTSTART;VALUE=DATE:20250120
DTEND;VALUE=DATE:20250121
DTSTAMP:20260423T011236
CREATED:20241115T175546Z
LAST-MODIFIED:20241115T175546Z
UID:50329-1737331200-1737417599@www.jeffpud.org
SUMMARY:Offices Closed: Martin Luther King Day
DESCRIPTION:Jefferson PUD offices will be closed in observance of the Martin Luther King Jr. National Holiday.
URL:https://www.jeffpud.org/event/offices-closed-martin-luther-king-day/
CATEGORIES:holiday
END:VEVENT
BEGIN:VEVENT
DTSTART;VALUE=DATE:20250101
DTEND;VALUE=DATE:20250102
DTSTAMP:20260423T011236
CREATED:20241115T175335Z
LAST-MODIFIED:20241115T175407Z
UID:50325-1735689600-1735775999@www.jeffpud.org
SUMMARY:Offices Closed: New Year's Day
DESCRIPTION:Jefferson PUD offices will be closed for the New Year’s Day holiday.
URL:https://www.jeffpud.org/event/new-years-day-2/
CATEGORIES:holiday
END:VEVENT
BEGIN:VEVENT
DTSTART;VALUE=DATE:20241225
DTEND;VALUE=DATE:20241226
DTSTAMP:20260423T011236
CREATED:20241122T234457Z
LAST-MODIFIED:20241122T234457Z
UID:50394-1735084800-1735171199@www.jeffpud.org
SUMMARY:Offices Closed: Christmas Day
DESCRIPTION:
URL:https://www.jeffpud.org/event/offices-closed-christmas-day/
CATEGORIES:holiday
END:VEVENT
BEGIN:VEVENT
DTSTART;VALUE=DATE:20241128
DTEND;VALUE=DATE:20241129
DTSTAMP:20260423T011236
CREATED:20241122T234940Z
LAST-MODIFIED:20241122T234940Z
UID:50398-1732752000-1732838399@www.jeffpud.org
SUMMARY:Offices Closed: Thanksgiving
DESCRIPTION:
URL:https://www.jeffpud.org/event/offices-closed-thanksgiving-2/
CATEGORIES:holiday
END:VEVENT
BEGIN:VEVENT
DTSTART;VALUE=DATE:20240219
DTEND;VALUE=DATE:20240220
DTSTAMP:20260423T011236
CREATED:20240111T160359Z
LAST-MODIFIED:20240111T160359Z
UID:47968-1708300800-1708387199@www.jeffpud.org
SUMMARY:President's Day - PUD OFFICES CLOSED
DESCRIPTION:PUD offices will be closed Monday\, February 19th in observance of the President’s Day national holiday. Offices will reopen Tuesday\, February 20th during normal business hours. Utility payments can be made online via SmartHub or at any PUD dropbox location.
URL:https://www.jeffpud.org/event/presidents-day-pud-offices-closed/
CATEGORIES:holiday
END:VEVENT
BEGIN:VEVENT
DTSTART;VALUE=DATE:20240115
DTEND;VALUE=DATE:20240116
DTSTAMP:20260423T011236
CREATED:20240108T223424Z
LAST-MODIFIED:20240108T223433Z
UID:47940-1705276800-1705363199@www.jeffpud.org
SUMMARY:Martin Luther King Jr. Day - PUD OFFICES CLOSED
DESCRIPTION:PUD offices closed for Martin Luther King Jr. Day.
URL:https://www.jeffpud.org/event/martin-luther-king-jr-day-pud-offices-closed/
CATEGORIES:Closure,holiday
END:VEVENT
BEGIN:VEVENT
DTSTART;VALUE=DATE:20240101
DTEND;VALUE=DATE:20240102
DTSTAMP:20260423T011236
CREATED:20231215T201017Z
LAST-MODIFIED:20231228T233039Z
UID:47740-1704067200-1704153599@www.jeffpud.org
SUMMARY:New Years Day - OFFICE CLOSED
DESCRIPTION:PUD offices closed for New Years holiday.
URL:https://www.jeffpud.org/event/new-years-day/
CATEGORIES:holiday
END:VEVENT
BEGIN:VEVENT
DTSTART;VALUE=DATE:20231225
DTEND;VALUE=DATE:20231226
DTSTAMP:20260423T011236
CREATED:20221024T174124Z
LAST-MODIFIED:20221024T174124Z
UID:37202-1703462400-1703548799@www.jeffpud.org
SUMMARY:Christmas
DESCRIPTION:
URL:https://www.jeffpud.org/event/christmas-2/
CATEGORIES:holiday
END:VEVENT
BEGIN:VEVENT
DTSTART;VALUE=DATE:20231124
DTEND;VALUE=DATE:20231125
DTSTAMP:20260423T011236
CREATED:20221024T174025Z
LAST-MODIFIED:20231101T160906Z
UID:37200-1700784000-1700870399@www.jeffpud.org
SUMMARY:Native American Heritage Day - OFFICE CLOSED
DESCRIPTION:
URL:https://www.jeffpud.org/event/native-american-heritage-day/
CATEGORIES:holiday
END:VEVENT
BEGIN:VEVENT
DTSTART;VALUE=DATE:20231123
DTEND;VALUE=DATE:20231124
DTSTAMP:20260423T011236
CREATED:20231101T161109Z
LAST-MODIFIED:20231101T161109Z
UID:47219-1700697600-1700783999@www.jeffpud.org
SUMMARY:Thanksgiving Day - OFFICE CLOSED
DESCRIPTION:
URL:https://www.jeffpud.org/event/thanksgiving-day-office-closed/
CATEGORIES:Closure,holiday
END:VEVENT
BEGIN:VEVENT
DTSTART;VALUE=DATE:20231110
DTEND;VALUE=DATE:20231111
DTSTAMP:20260423T011236
CREATED:20221024T173921Z
LAST-MODIFIED:20231103T220531Z
UID:37198-1699574400-1699660799@www.jeffpud.org
SUMMARY:Veterans Day (observed) - OFFICE CLOSED
DESCRIPTION:
URL:https://www.jeffpud.org/event/veterans-day-2/
CATEGORIES:holiday
END:VEVENT
BEGIN:VEVENT
DTSTART;VALUE=DATE:20230904
DTEND;VALUE=DATE:20230905
DTSTAMP:20260423T011236
CREATED:20221024T173827Z
LAST-MODIFIED:20230828T160158Z
UID:37196-1693785600-1693871999@www.jeffpud.org
SUMMARY:Labor Day
DESCRIPTION:Our offices are closed in recognition of and paying tribute to the contributions and achievements of American workers. \n  \nIn case of emergencies\, please contact: (360) 385-5800.
URL:https://www.jeffpud.org/event/labor-day-2/
CATEGORIES:holiday
END:VEVENT
BEGIN:VEVENT
DTSTART;VALUE=DATE:20230704
DTEND;VALUE=DATE:20230705
DTSTAMP:20260423T011236
CREATED:20221024T173744Z
LAST-MODIFIED:20230622T203512Z
UID:37194-1688428800-1688515199@www.jeffpud.org
SUMMARY:Independence Day
DESCRIPTION:No Regular Meeting of the PUD Board of Commissioners will be held on July 5th. The next regular meeting will be held on July 18\, 2023. \nJefferson County PUD’s Board of Commissioners regularly meet at 3pm on the first and third Tuesday of each month and hold a budget hearing the first Monday in October. One regular board meeting is held in December on the second Tuesday.
URL:https://www.jeffpud.org/event/independence-day-2/
CATEGORIES:holiday
END:VEVENT
BEGIN:VEVENT
DTSTART;VALUE=DATE:20230619
DTEND;VALUE=DATE:20230620
DTSTAMP:20260423T011236
CREATED:20221024T173626Z
LAST-MODIFIED:20221024T173640Z
UID:37191-1687132800-1687219199@www.jeffpud.org
SUMMARY:Juneteenth National Independence Day
DESCRIPTION:
URL:https://www.jeffpud.org/event/juneteenth-2/
CATEGORIES:holiday
END:VEVENT
BEGIN:VEVENT
DTSTART;VALUE=DATE:20230529
DTEND;VALUE=DATE:20230530
DTSTAMP:20260423T011236
CREATED:20221024T173534Z
LAST-MODIFIED:20221024T173534Z
UID:37189-1685318400-1685404799@www.jeffpud.org
SUMMARY:Memorial Day
DESCRIPTION:
URL:https://www.jeffpud.org/event/memorial-day-2/
CATEGORIES:holiday
END:VEVENT
BEGIN:VEVENT
DTSTART;VALUE=DATE:20230220
DTEND;VALUE=DATE:20230221
DTSTAMP:20260423T011236
CREATED:20221024T174215Z
LAST-MODIFIED:20230220T164009Z
UID:37204-1676851200-1676937599@www.jeffpud.org
SUMMARY:Offices Closed for Presidents Day
DESCRIPTION:
URL:https://www.jeffpud.org/event/presidents-day/
CATEGORIES:holiday
END:VEVENT
BEGIN:VEVENT
DTSTART;VALUE=DATE:20230116
DTEND;VALUE=DATE:20230117
DTSTAMP:20260423T011236
CREATED:20221024T173257Z
LAST-MODIFIED:20221024T173257Z
UID:37187-1673827200-1673913599@www.jeffpud.org
SUMMARY:Martin Luther King Jr. Day
DESCRIPTION:
URL:https://www.jeffpud.org/event/martin-luther-king-jr-day/
CATEGORIES:holiday
END:VEVENT
BEGIN:VEVENT
DTSTART;VALUE=DATE:20230102
DTEND;VALUE=DATE:20230103
DTSTAMP:20260423T011236
CREATED:20221024T173140Z
LAST-MODIFIED:20221024T173140Z
UID:37184-1672617600-1672703999@www.jeffpud.org
SUMMARY:New Years Day (observed)
DESCRIPTION:
URL:https://www.jeffpud.org/event/new-years-day-observed/
CATEGORIES:holiday
END:VEVENT
BEGIN:VEVENT
DTSTART;VALUE=DATE:20221226
DTEND;VALUE=DATE:20221227
DTSTAMP:20260423T011236
CREATED:20221027T170107Z
LAST-MODIFIED:20221027T170107Z
UID:37273-1672012800-1672099199@www.jeffpud.org
SUMMARY:Christmas (observed Holiday)
DESCRIPTION:
URL:https://www.jeffpud.org/event/christmas-observed-holiday/
CATEGORIES:holiday
END:VEVENT
BEGIN:VEVENT
DTSTART;VALUE=DATE:20221125
DTEND;VALUE=DATE:20221126
DTSTAMP:20260423T011236
CREATED:20221027T165950Z
LAST-MODIFIED:20221027T165950Z
UID:37271-1669334400-1669420799@www.jeffpud.org
SUMMARY:Native American Heritage Day
DESCRIPTION:
URL:https://www.jeffpud.org/event/native-american-heritage-day-2/
CATEGORIES:holiday
END:VEVENT
BEGIN:VEVENT
DTSTART;VALUE=DATE:20221124
DTEND;VALUE=DATE:20221125
DTSTAMP:20260423T011236
CREATED:20220516T203254Z
LAST-MODIFIED:20221121T175910Z
UID:34463-1669248000-1669334399@www.jeffpud.org
SUMMARY:Thanksgiving
DESCRIPTION:All PUD Offices are closed for the Thanksgiving Holiday.
URL:https://www.jeffpud.org/event/thanksgiving/
CATEGORIES:holiday
END:VEVENT
BEGIN:VEVENT
DTSTART;TZID=America/Los_Angeles:20201225T080000
DTEND;TZID=America/Los_Angeles:20201225T170000
DTSTAMP:20260423T011236
CREATED:20200116T193049Z
LAST-MODIFIED:20200116T193049Z
UID:9181-1608883200-1608915600@www.jeffpud.org
SUMMARY:Closed for Christmas Day
DESCRIPTION:All PUD offices will be closed on Friday\, December 25th\, in observance of the Christmas Day holiday. We will reopen Monday the 28th at 9am.
URL:https://www.jeffpud.org/event/closed-for-christmas-day/
LOCATION:PUD Customer Service Office\, 210 Four Corners Rd\, Port Townsend\, WA\, 98368\, United States
CATEGORIES:holiday
END:VEVENT
BEGIN:VEVENT
DTSTART;VALUE=DATE:20201126
DTEND;VALUE=DATE:20201128
DTSTAMP:20260423T011236
CREATED:20200116T192903Z
LAST-MODIFIED:20200116T192903Z
UID:9179-1606348800-1606521599@www.jeffpud.org
SUMMARY:Offices Closed for Thanksgiving
DESCRIPTION:All PUD offices will be closed on Thursday and Friday\, November 26 and 27th\, in observance of the Thanksgiving holiday. We will reopen Monday the 30th at 9am.
URL:https://www.jeffpud.org/event/offices-closed-for-thanksgiving/
LOCATION:PUD Customer Service Office\, 210 Four Corners Rd\, Port Townsend\, WA\, 98368\, United States
CATEGORIES:holiday
END:VEVENT
BEGIN:VEVENT
DTSTART;VALUE=DATE:20200907
DTEND;VALUE=DATE:20200908
DTSTAMP:20260423T011236
CREATED:20200116T191815Z
LAST-MODIFIED:20200116T191815Z
UID:9175-1599436800-1599523199@www.jeffpud.org
SUMMARY:Offices Closed for Labor Day
DESCRIPTION:All PUD offices will be closed on Monday\, Sept 7th\, in observance of the Labor Day holiday. We will reopen Tuesday the 8th at 9am. \n  \n 
URL:https://www.jeffpud.org/event/offices-closed-for-labor-day/
LOCATION:PUD Customer Service Office\, 210 Four Corners Rd\, Port Townsend\, WA\, 98368\, United States
CATEGORIES:holiday
END:VEVENT
BEGIN:VEVENT
DTSTART;VALUE=DATE:20200703
DTEND;VALUE=DATE:20200704
DTSTAMP:20260423T011236
CREATED:20200116T190504Z
LAST-MODIFIED:20200616T223405Z
UID:9173-1593734400-1593820799@www.jeffpud.org
SUMMARY:Closed for Independence Day
DESCRIPTION:All PUD offices will be closed on Friday\, July 3rd\, in observance of the Independence Day holiday. Customer service will be available again on Monday the 6th at 9am.
URL:https://www.jeffpud.org/event/closed-for-independence-day/
LOCATION:WA\, United States
CATEGORIES:holiday
END:VEVENT
BEGIN:VEVENT
DTSTART;VALUE=DATE:20200525
DTEND;VALUE=DATE:20200526
DTSTAMP:20260423T011236
CREATED:20200116T190136Z
LAST-MODIFIED:20200116T190259Z
UID:9171-1590364800-1590451199@www.jeffpud.org
SUMMARY:Closed for Memorial Day
DESCRIPTION:All PUD offices will be closed on Monday\, May 25th\, in observance of the Memorial Day holiday. We will reopen Tuesday the 26th at 9am.
URL:https://www.jeffpud.org/event/closed-for-memorial-day/
LOCATION:PUD Customer Service Office\, 210 Four Corners Rd\, Port Townsend\, WA\, 98368\, United States
CATEGORIES:holiday
END:VEVENT
BEGIN:VEVENT
DTSTART;VALUE=DATE:20200217
DTEND;VALUE=DATE:20200218
DTSTAMP:20260423T011236
CREATED:20200116T185906Z
LAST-MODIFIED:20200116T185932Z
UID:9169-1581897600-1581983999@www.jeffpud.org
SUMMARY:Closed for Presidents Day
DESCRIPTION:All PUD offices will be closed on Monday February 17th in observance of the President’s Day holiday. We will re-open Tuesday February 18th at 9am.
URL:https://www.jeffpud.org/event/closed-for-presidents-day/
LOCATION:PUD Customer Service Office\, 210 Four Corners Rd\, Port Townsend\, WA\, 98368\, United States
CATEGORIES:holiday
END:VEVENT
BEGIN:VEVENT
DTSTART;VALUE=DATE:20200120
DTEND;VALUE=DATE:20200121
DTSTAMP:20260423T011236
CREATED:20200116T185427Z
LAST-MODIFIED:20200116T185427Z
UID:9167-1579478400-1579564799@www.jeffpud.org
SUMMARY:Closed for MLK Holiday
DESCRIPTION:All Jefferson County PUD offices will be closed Monday January 20th in observance of the Martin Luther King Jr. Day holiday. We will re-open on Tuesday the 21st at 9am.
URL:https://www.jeffpud.org/event/closed-for-mlk-holiday/
LOCATION:PUD Customer Service Office\, 210 Four Corners Rd\, Port Townsend\, WA\, 98368\, United States
CATEGORIES:holiday
END:VEVENT
BEGIN:VEVENT
DTSTART;VALUE=DATE:20190218
DTEND;VALUE=DATE:20190219
DTSTAMP:20260423T011236
CREATED:20190131T203811Z
LAST-MODIFIED:20190131T204235Z
UID:6340-1550448000-1550534399@www.jeffpud.org
SUMMARY:Offices Closed: President's Day
DESCRIPTION:All PUD Offices Closed for President’s Day. To report an outage call (360) 385-5800.
URL:https://www.jeffpud.org/event/offices-closed-presidents-day/
LOCATION:Jefferson County PUD HQ\, 310 Four Corners Rd\, Port Townsend\, WA\, 98368\, United States
CATEGORIES:holiday
ORGANIZER;CN="Jefferson County PUD":MAILTO:wodonnell@jeffpud.org
GEO:48.0478762;-122.8134079
X-APPLE-STRUCTURED-LOCATION;VALUE=URI;X-ADDRESS=Jefferson County PUD HQ 310 Four Corners Rd Port Townsend WA 98368 United States;X-APPLE-RADIUS=500;X-TITLE=310 Four Corners Rd:geo:-122.8134079,48.0478762
END:VEVENT
END:VCALENDAR