BEGIN:VCALENDAR
VERSION:2.0
PRODID:-//JPUD - ECPv6.15.20//NONSGML v1.0//EN
CALSCALE:GREGORIAN
METHOD:PUBLISH
X-WR-CALNAME:JPUD
X-ORIGINAL-URL:https://www.jeffpud.org
X-WR-CALDESC:Events for JPUD
REFRESH-INTERVAL;VALUE=DURATION:PT1H
X-Robots-Tag:noindex
X-PUBLISHED-TTL:PT1H
BEGIN:VTIMEZONE
TZID:America/Los_Angeles
BEGIN:DAYLIGHT
TZOFFSETFROM:-0800
TZOFFSETTO:-0700
TZNAME:PDT
DTSTART:20180311T100000
END:DAYLIGHT
BEGIN:STANDARD
TZOFFSETFROM:-0700
TZOFFSETTO:-0800
TZNAME:PST
DTSTART:20181104T090000
END:STANDARD
BEGIN:DAYLIGHT
TZOFFSETFROM:-0800
TZOFFSETTO:-0700
TZNAME:PDT
DTSTART:20190310T100000
END:DAYLIGHT
BEGIN:STANDARD
TZOFFSETFROM:-0700
TZOFFSETTO:-0800
TZNAME:PST
DTSTART:20191103T090000
END:STANDARD
BEGIN:DAYLIGHT
TZOFFSETFROM:-0800
TZOFFSETTO:-0700
TZNAME:PDT
DTSTART:20200308T100000
END:DAYLIGHT
BEGIN:STANDARD
TZOFFSETFROM:-0700
TZOFFSETTO:-0800
TZNAME:PST
DTSTART:20201101T090000
END:STANDARD
END:VTIMEZONE
BEGIN:VEVENT
DTSTART;TZID=America/Los_Angeles:20191212T100000
DTEND;TZID=America/Los_Angeles:20191212T120000
DTSTAMP:20260424T121201
CREATED:20190911T215442Z
LAST-MODIFIED:20190911T215618Z
UID:8153-1576144800-1576152000@www.jeffpud.org
SUMMARY:BOC Special Meeting: 4th Quarter Update
DESCRIPTION:The PUD Board of Commissioners will hold a Special meeting on December 12\, 2019 at 10:00am-12:00pm am at the Chimacum Fire Hall\, 9193 Rhody Drive\, Chimacum\, WA to review the 4th Quarter update. There may be action taken at this meeting. \nAGENDA \nCall to Order \nAgenda Approval \n4th Quarter Update \nDiscussion/ Possible Action \nAdjournment
URL:https://www.jeffpud.org/event/boc-special-meeting-4th-quarter-update/
LOCATION:Chimacum Fire Dept\, 9193 Rhody Drive\, Chimacum\, 98325\, United States
GEO:48.0112736;-122.7707342
X-APPLE-STRUCTURED-LOCATION;VALUE=URI;X-ADDRESS=Chimacum Fire Dept 9193 Rhody Drive Chimacum 98325 United States;X-APPLE-RADIUS=500;X-TITLE=9193 Rhody Drive:geo:-122.7707342,48.0112736
END:VEVENT
BEGIN:VEVENT
DTSTART;TZID=America/Los_Angeles:20191212T133000
DTEND;TZID=America/Los_Angeles:20191212T143000
DTSTAMP:20260424T121201
CREATED:20191106T194253Z
LAST-MODIFIED:20191106T220848Z
UID:8565-1576157400-1576161000@www.jeffpud.org
SUMMARY:Special Meeting of the BOC: Audit Exit Interview
DESCRIPTION:The PUD Board of Commissioners will hold a Special meeting on December 12\, 2019 from 1:30-2:30 pm at the Chimacum Fire Hall\, 9193 Rhody Drive\, Chimacum\, WA. The purpose of this special meeting is to receive and discuss the Washington State Auditor’s Office exit briefing for the 2018 PUD State Audit. Representatives from the State Auditor’s office will be present. \nAGENDA \nCall to Order \nAgenda Approval \nDiscussion: State Audit results for 2018 PUD Financials \nAdjournment
URL:https://www.jeffpud.org/event/special-meeting-of-the-boc-audit-exit-interview/
LOCATION:Chimacum Fire Dept\, 9193 Rhody Drive\, Chimacum\, 98325\, United States
GEO:48.0112736;-122.7707342
X-APPLE-STRUCTURED-LOCATION;VALUE=URI;X-ADDRESS=Chimacum Fire Dept 9193 Rhody Drive Chimacum 98325 United States;X-APPLE-RADIUS=500;X-TITLE=9193 Rhody Drive:geo:-122.7707342,48.0112736
END:VEVENT
END:VCALENDAR