BEGIN:VCALENDAR
VERSION:2.0
PRODID:-//JPUD - ECPv6.15.20//NONSGML v1.0//EN
CALSCALE:GREGORIAN
METHOD:PUBLISH
X-ORIGINAL-URL:https://www.jeffpud.org
X-WR-CALDESC:Events for JPUD
REFRESH-INTERVAL;VALUE=DURATION:PT1H
X-Robots-Tag:noindex
X-PUBLISHED-TTL:PT1H
BEGIN:VTIMEZONE
TZID:America/Los_Angeles
BEGIN:DAYLIGHT
TZOFFSETFROM:-0800
TZOFFSETTO:-0700
TZNAME:PDT
DTSTART:20180311T100000
END:DAYLIGHT
BEGIN:STANDARD
TZOFFSETFROM:-0700
TZOFFSETTO:-0800
TZNAME:PST
DTSTART:20181104T090000
END:STANDARD
BEGIN:DAYLIGHT
TZOFFSETFROM:-0800
TZOFFSETTO:-0700
TZNAME:PDT
DTSTART:20190310T100000
END:DAYLIGHT
BEGIN:STANDARD
TZOFFSETFROM:-0700
TZOFFSETTO:-0800
TZNAME:PST
DTSTART:20191103T090000
END:STANDARD
BEGIN:DAYLIGHT
TZOFFSETFROM:-0800
TZOFFSETTO:-0700
TZNAME:PDT
DTSTART:20200308T100000
END:DAYLIGHT
BEGIN:STANDARD
TZOFFSETFROM:-0700
TZOFFSETTO:-0800
TZNAME:PST
DTSTART:20201101T090000
END:STANDARD
END:VTIMEZONE
BEGIN:VTIMEZONE
TZID:America/Halifax
BEGIN:DAYLIGHT
TZOFFSETFROM:-0400
TZOFFSETTO:-0300
TZNAME:ADT
DTSTART:20180311T060000
END:DAYLIGHT
BEGIN:STANDARD
TZOFFSETFROM:-0300
TZOFFSETTO:-0400
TZNAME:AST
DTSTART:20181104T050000
END:STANDARD
BEGIN:DAYLIGHT
TZOFFSETFROM:-0400
TZOFFSETTO:-0300
TZNAME:ADT
DTSTART:20190310T060000
END:DAYLIGHT
BEGIN:STANDARD
TZOFFSETFROM:-0300
TZOFFSETTO:-0400
TZNAME:AST
DTSTART:20191103T050000
END:STANDARD
BEGIN:DAYLIGHT
TZOFFSETFROM:-0400
TZOFFSETTO:-0300
TZNAME:ADT
DTSTART:20200308T060000
END:DAYLIGHT
BEGIN:STANDARD
TZOFFSETFROM:-0300
TZOFFSETTO:-0400
TZNAME:AST
DTSTART:20201101T050000
END:STANDARD
END:VTIMEZONE
BEGIN:VEVENT
DTSTART;TZID=America/Los_Angeles:20191210T153000
DTEND;TZID=America/Los_Angeles:20191210T163000
DTSTAMP:20260424T034526
CREATED:20190927T190601Z
LAST-MODIFIED:20191204T210250Z
UID:8236-1575991800-1575995400@www.jeffpud.org
SUMMARY:Special Meeting of the BOC: Exec Session
DESCRIPTION:The PUD Board of Commissioners will hold a Special meeting on December 10\, 2019 3:30 pm to then hold an Executive Session for the review of a public employee pursuant to RCW 42.30.110 (1) (g). This meeting will be held at the Customer Service PUD office\, 210 Four Corners Rd. Port Townsend\, WA. There may be action taken at this meeting. \nAGENDA \nCall to Order \nAgenda Approval \nDismiss to Executive Session: Review of Public Employee pursuant to RCW 42.30.110 (g) \nDiscussion/Possible Action \nAdjournment
URL:https://www.jeffpud.org/event/special-meeting-of-the-boc-exec-session/
LOCATION:PUD Customer Service Office\, 210 Four Corners Rd\, Port Townsend\, WA\, 98368\, United States
END:VEVENT
BEGIN:VEVENT
DTSTART;TZID=America/Halifax:20191210T170000
DTEND;TZID=America/Halifax:20191210T190000
DTSTAMP:20260424T034526
CREATED:20171115T030508Z
LAST-MODIFIED:20191209T184314Z
UID:6490-1575997200-1576004400@www.jeffpud.org
SUMMARY:BOC Meeting
DESCRIPTION:  \nThe PUD #1 Board of Commissioners regularly meet at 5pm on the first and third Tuesday of each month and hold a budget hearing the first Monday in October. One regular board meeting is held in December on the second Tuesday. Meetings are held at the Jefferson Transit Board Room\, 63 Four Corners Road\, Port Townsend WA 98368. \n\nMeet the Board of Commissioners.\nAgenda and Board Packet \nPast Meeting Recordings and Documents
URL:https://www.jeffpud.org/event/boc-meeting-2019-12-17/
LOCATION:Jefferson Transit Board Room\, 63 Four Corners Road\, Port Townsend\, WA\, 98368\, United States
ATTACH;FMTTYPE=image/jpeg:https://www.jeffpud.org/wp-content/uploads/Board-Meeting-scaled-e1724697447903.jpg
GEO:48.0505321;-122.8185547
X-APPLE-STRUCTURED-LOCATION;VALUE=URI;X-ADDRESS=Jefferson Transit Board Room 63 Four Corners Road Port Townsend WA 98368 United States;X-APPLE-RADIUS=500;X-TITLE=63 Four Corners Road:geo:-122.8185547,48.0505321
END:VEVENT
END:VCALENDAR