BEGIN:VCALENDAR
VERSION:2.0
PRODID:-//JPUD - ECPv6.15.20//NONSGML v1.0//EN
CALSCALE:GREGORIAN
METHOD:PUBLISH
X-ORIGINAL-URL:https://www.jeffpud.org
X-WR-CALDESC:Events for JPUD
REFRESH-INTERVAL;VALUE=DURATION:PT1H
X-Robots-Tag:noindex
X-PUBLISHED-TTL:PT1H
BEGIN:VTIMEZONE
TZID:America/Los_Angeles
BEGIN:DAYLIGHT
TZOFFSETFROM:-0800
TZOFFSETTO:-0700
TZNAME:PDT
DTSTART:20180311T100000
END:DAYLIGHT
BEGIN:STANDARD
TZOFFSETFROM:-0700
TZOFFSETTO:-0800
TZNAME:PST
DTSTART:20181104T090000
END:STANDARD
BEGIN:DAYLIGHT
TZOFFSETFROM:-0800
TZOFFSETTO:-0700
TZNAME:PDT
DTSTART:20190310T100000
END:DAYLIGHT
BEGIN:STANDARD
TZOFFSETFROM:-0700
TZOFFSETTO:-0800
TZNAME:PST
DTSTART:20191103T090000
END:STANDARD
BEGIN:DAYLIGHT
TZOFFSETFROM:-0800
TZOFFSETTO:-0700
TZNAME:PDT
DTSTART:20200308T100000
END:DAYLIGHT
BEGIN:STANDARD
TZOFFSETFROM:-0700
TZOFFSETTO:-0800
TZNAME:PST
DTSTART:20201101T090000
END:STANDARD
END:VTIMEZONE
BEGIN:VEVENT
DTSTART;TZID=America/Los_Angeles:20190910T100000
DTEND;TZID=America/Los_Angeles:20190910T120000
DTSTAMP:20260424T092226
CREATED:20190708T150302Z
LAST-MODIFIED:20190708T164722Z
UID:6829-1568109600-1568116800@www.jeffpud.org
SUMMARY:Special Meeting Strategic Planning
DESCRIPTION:The PUD Board of Commissioners will hold a Special meeting on September 10\, 2019 at 10:00am – 12:00pm am at the Chimacum Fire Hall\, 9193 Rhody Drive\, Chimacum\, WA for a Strategic Planning session. There may be action taken at this meeting. \nAGENDA \nCall to Order \nAgenda \nUpdate and Review of PUD Strategic Plan/Liz Anderson and George Caan \nDiscussion/Action \nAdjournment
URL:https://www.jeffpud.org/event/employee-meeting-strategic-planning/
LOCATION:Chimacum Fire Dept\, 9193 Rhody Drive\, Chimacum\, 98325\, United States
GEO:48.0112736;-122.7707342
X-APPLE-STRUCTURED-LOCATION;VALUE=URI;X-ADDRESS=Chimacum Fire Dept 9193 Rhody Drive Chimacum 98325 United States;X-APPLE-RADIUS=500;X-TITLE=9193 Rhody Drive:geo:-122.7707342,48.0112736
END:VEVENT
END:VCALENDAR