BEGIN:VCALENDAR
VERSION:2.0
PRODID:-//JPUD - ECPv6.15.20//NONSGML v1.0//EN
CALSCALE:GREGORIAN
METHOD:PUBLISH
X-ORIGINAL-URL:https://www.jeffpud.org
X-WR-CALDESC:Events for JPUD
REFRESH-INTERVAL;VALUE=DURATION:PT1H
X-Robots-Tag:noindex
X-PUBLISHED-TTL:PT1H
BEGIN:VTIMEZONE
TZID:America/Halifax
BEGIN:DAYLIGHT
TZOFFSETFROM:-0400
TZOFFSETTO:-0300
TZNAME:ADT
DTSTART:20180311T060000
END:DAYLIGHT
BEGIN:STANDARD
TZOFFSETFROM:-0300
TZOFFSETTO:-0400
TZNAME:AST
DTSTART:20181104T050000
END:STANDARD
BEGIN:DAYLIGHT
TZOFFSETFROM:-0400
TZOFFSETTO:-0300
TZNAME:ADT
DTSTART:20190310T060000
END:DAYLIGHT
BEGIN:STANDARD
TZOFFSETFROM:-0300
TZOFFSETTO:-0400
TZNAME:AST
DTSTART:20191103T050000
END:STANDARD
BEGIN:DAYLIGHT
TZOFFSETFROM:-0400
TZOFFSETTO:-0300
TZNAME:ADT
DTSTART:20200308T060000
END:DAYLIGHT
BEGIN:STANDARD
TZOFFSETFROM:-0300
TZOFFSETTO:-0400
TZNAME:AST
DTSTART:20201101T050000
END:STANDARD
END:VTIMEZONE
BEGIN:VEVENT
DTSTART;TZID=America/Halifax:20190219T160000
DTEND;TZID=America/Halifax:20190219T170000
DTSTAMP:20260423T033745
CREATED:20190215T034300Z
LAST-MODIFIED:20190215T034907Z
UID:6370-1550592000-1550595600@www.jeffpud.org
SUMMARY:Special Meeting Executive Session
DESCRIPTION:The PUD Board of Commissioners will be holding a Special meeting\, then into an Executive session under RCW 42.30.110 (1) (g) to evaluate the qualifications of an applicant for public employment. The meeting will be held at 4:00 pm at 310 Four Corners Rd. Port Townsend\, WA. Persons with disabilities who require accommodations or alternative means for communication of program information should contact Annette Johnson at 360-385-8351 at least 72 hours in advance of this meeting. For any questions regarding this meeting please contact the undersigned at 360-385-8360. \nSincerely\, \nKevin Streett \nActing General Manager \nPUBLIC UTILITY DISTRICT #1 Of Jefferson County \n  \nPUD BOC SPECIAL MEETING February 19\, 2019 \n4:00 PM: Four Corners Operations Center \nAGENDA \nCall to Order \nAgenda Approval \nExecutive Session RCW 42.30.110 (1) (g) To evaluate the qualifications of an applicant for public employment. \nDiscussion/Possible Action \nAdjournment
URL:https://www.jeffpud.org/event/special-meeting-executive-session-3/
LOCATION:Jefferson County PUD HQ\, 310 Four Corners Rd\, Port Townsend\, WA\, 98368\, United States
ORGANIZER;CN="Jefferson County PUD":MAILTO:wodonnell@jeffpud.org
GEO:48.0478762;-122.8134079
X-APPLE-STRUCTURED-LOCATION;VALUE=URI;X-ADDRESS=Jefferson County PUD HQ 310 Four Corners Rd Port Townsend WA 98368 United States;X-APPLE-RADIUS=500;X-TITLE=310 Four Corners Rd:geo:-122.8134079,48.0478762
END:VEVENT
END:VCALENDAR