BEGIN:VCALENDAR
VERSION:2.0
PRODID:-//JPUD - ECPv6.15.20//NONSGML v1.0//EN
CALSCALE:GREGORIAN
METHOD:PUBLISH
X-WR-CALNAME:JPUD
X-ORIGINAL-URL:https://www.jeffpud.org
X-WR-CALDESC:Events for JPUD
REFRESH-INTERVAL;VALUE=DURATION:PT1H
X-Robots-Tag:noindex
X-PUBLISHED-TTL:PT1H
BEGIN:VTIMEZONE
TZID:America/Halifax
BEGIN:DAYLIGHT
TZOFFSETFROM:-0400
TZOFFSETTO:-0300
TZNAME:ADT
DTSTART:20160313T060000
END:DAYLIGHT
BEGIN:STANDARD
TZOFFSETFROM:-0300
TZOFFSETTO:-0400
TZNAME:AST
DTSTART:20161106T050000
END:STANDARD
BEGIN:DAYLIGHT
TZOFFSETFROM:-0400
TZOFFSETTO:-0300
TZNAME:ADT
DTSTART:20170312T060000
END:DAYLIGHT
BEGIN:STANDARD
TZOFFSETFROM:-0300
TZOFFSETTO:-0400
TZNAME:AST
DTSTART:20171105T050000
END:STANDARD
BEGIN:DAYLIGHT
TZOFFSETFROM:-0400
TZOFFSETTO:-0300
TZNAME:ADT
DTSTART:20180311T060000
END:DAYLIGHT
BEGIN:STANDARD
TZOFFSETFROM:-0300
TZOFFSETTO:-0400
TZNAME:AST
DTSTART:20181104T050000
END:STANDARD
END:VTIMEZONE
BEGIN:VEVENT
DTSTART;TZID=America/Halifax:20171214T120000
DTEND;TZID=America/Halifax:20171214T133000
DTSTAMP:20260420T002204
CREATED:20171202T045029Z
LAST-MODIFIED:20171202T045128Z
UID:4115-1513252800-1513258200@www.jeffpud.org
SUMMARY:Staff Meeting- Office Closed
DESCRIPTION:All PUD offices closed between 12pm and 1:30pm on Thursday Dec 14th for a Staff Meeting.
URL:https://www.jeffpud.org/event/staff-meeting-office-closed/
CATEGORIES:holiday
ORGANIZER;CN="Jefferson County PUD":MAILTO:wodonnell@jeffpud.org
END:VEVENT
END:VCALENDAR